BEGIN:VCALENDAR
VERSION:2.0
PRODID:-//Broadband India Forum - ECPv6.15.20//NONSGML v1.0//EN
CALSCALE:GREGORIAN
METHOD:PUBLISH
X-ORIGINAL-URL:https://broadbandindiaforum.in
X-WR-CALDESC:Events for Broadband India Forum
REFRESH-INTERVAL;VALUE=DURATION:PT1H
X-Robots-Tag:noindex
X-PUBLISHED-TTL:PT1H
BEGIN:VTIMEZONE
TZID:UTC
BEGIN:STANDARD
TZOFFSETFROM:+0000
TZOFFSETTO:+0000
TZNAME:UTC
DTSTART:20220101T000000
END:STANDARD
END:VTIMEZONE
BEGIN:VEVENT
DTSTART;TZID=UTC:20240918T113000
DTEND;TZID=UTC:20240918T130000
DTSTAMP:20260421T093545
CREATED:20240906T102015Z
LAST-MODIFIED:20240920T084844Z
UID:12142-1726659000-1726664400@broadbandindiaforum.in
SUMMARY:Release of the Study Report on "India's Mobile Manufacturing Ecosystem: Challenges and Opportunities" - September 18th 2024
DESCRIPTION:Program Register Here Speaker Details Image Gallery
URL:https://broadbandindiaforum.in/event/release-of-the-study-report-on-indias-mobile-manufacturing-ecosystem-challenges-and-opportunities-september-18th-2024/
LOCATION:Delhi
CATEGORIES:Upcoming Events
ATTACH;FMTTYPE=image/jpeg:https://broadbandindiaforum.in/wp-content/uploads/2024/09/Banner-1920x1080-131.jpg
END:VEVENT
BEGIN:VEVENT
DTSTART;TZID=UTC:20240807T093000
DTEND;TZID=UTC:20240807T170000
DTSTAMP:20260421T093545
CREATED:20240611T044145Z
LAST-MODIFIED:20250630T071001Z
UID:11855-1723023000-1723050000@broadbandindiaforum.in
SUMMARY:India Satcom 2024 - August 7th 2024 at The LaLiT New Delhi
DESCRIPTION:Speaker Details Program Watch On YouTube Presentations Brochure KEY TAKEAWAYS
URL:https://broadbandindiaforum.in/event/india-satcom-2024/
LOCATION:Delhi
CATEGORIES:Upcoming Events
ATTACH;FMTTYPE=image/jpeg:https://broadbandindiaforum.in/wp-content/uploads/2024/08/IS-2024-Banner1920x1080-3.jpg
END:VEVENT
BEGIN:VEVENT
DTSTART;TZID=UTC:20240716T153000
DTEND;TZID=UTC:20240716T170000
DTSTAMP:20260421T093545
CREATED:20240704T083821Z
LAST-MODIFIED:20240708T112755Z
UID:11958-1721143800-1721149200@broadbandindiaforum.in
SUMMARY:The Digital Dialogues on 'Cyber Security Considerations in Mobile and Wi-Fi' – 16th July 2024
DESCRIPTION:                                               Program \nRegistration \nEDM
URL:https://broadbandindiaforum.in/event/the-digital-dialogues-on-cyber-security-considerations-in-mobile-and-wi-fi-16th-july-2024/
LOCATION:Delhi
CATEGORIES:Upcoming Events
ATTACH;FMTTYPE=image/jpeg:https://broadbandindiaforum.in/wp-content/uploads/2024/07/Mobile-Wifi-2024-Banner-1920x1080-1.jpg
END:VEVENT
BEGIN:VEVENT
DTSTART;TZID=UTC:20240620T090000
DTEND;TZID=UTC:20240620T170000
DTSTAMP:20260421T093545
CREATED:20240604T103014Z
LAST-MODIFIED:20240621T085600Z
UID:11794-1718874000-1718902800@broadbandindiaforum.in
SUMMARY:World Wi-Fi Day June 20th 2024 at The LaLiT New Delhi
DESCRIPTION:                                               Program \nRegistration \nEDM
URL:https://broadbandindiaforum.in/event/world-wi-fi-day-june-20th-2024-at-the-lalit-new-delhi/
LOCATION:Delhi
CATEGORIES:Upcoming Events
ATTACH;FMTTYPE=image/jpeg:https://broadbandindiaforum.in/wp-content/uploads/2024/06/Banner-1920x1080-10.jpg
END:VEVENT
BEGIN:VEVENT
DTSTART;TZID=UTC:20240515T093000
DTEND;TZID=UTC:20240515T190000
DTSTAMP:20260421T093545
CREATED:20240511T175008Z
LAST-MODIFIED:20240511T175214Z
UID:11679-1715765400-1715799600@broadbandindiaforum.in
SUMMARY:Bharat 6G 2024 May 15\, 2024 at Hotel Le-Meridien\, New Delhi
DESCRIPTION:View Event Website
URL:https://broadbandindiaforum.in/event/bharat-6g-2024-may-15-2024-at-hotel-le-meridien-new-delhi/
LOCATION:Delhi
CATEGORIES:Upcoming Events
ATTACH;FMTTYPE=image/jpeg:https://broadbandindiaforum.in/wp-content/uploads/2024/05/Banner.jpg
END:VEVENT
BEGIN:VEVENT
DTSTART;TZID=UTC:20240513T093000
DTEND;TZID=UTC:20240513T170000
DTSTAMP:20260421T093545
CREATED:20240503T092053Z
LAST-MODIFIED:20240521T104515Z
UID:11636-1715592600-1715619600@broadbandindiaforum.in
SUMMARY:A Robust Digital Infrastructure for Bharat: The Path to Achieving Multi-Gigabit to Every Household by 2030 - 13th May 2024 at Tamarind\, India Habitat Centre\, New Delhi
DESCRIPTION:Program Register Here Presentations Video Media Coverage
URL:https://broadbandindiaforum.in/event/digital-infrastructure-for-bharat-the-path-to-achieving-a-gigabit-to-every-household-by-2030-13th-may-2024-at-tamarind-india-habitat-centre-new-delhi/
LOCATION:Delhi
CATEGORIES:Upcoming Events
ATTACH;FMTTYPE=image/jpeg:https://broadbandindiaforum.in/wp-content/uploads/2024/05/Banner-1920x1080-4.jpg
END:VEVENT
BEGIN:VEVENT
DTSTART;TZID=UTC:20240306T090000
DTEND;TZID=UTC:20240306T170000
DTSTAMP:20260421T093545
CREATED:20240210T153457Z
LAST-MODIFIED:20250630T075634Z
UID:11479-1709715600-1709744400@broadbandindiaforum.in
SUMMARY:National Workshop on "NEUTRAL DIGITAL CONNECTIVITY INFRASTRUCTURE (DCI) IN BUILDINGS" - 6th March 2024 at The Lalit\, New Delhi
DESCRIPTION:Program BROCHURE Watch On YouTube Record NotesKey Takeaways
URL:https://broadbandindiaforum.in/event/national-workshop-on-neutral-digital-connectivity-infrastructure-dci-in-buildings-6th-march-2024-at-the-lalit-new-delhi/
LOCATION:Delhi
CATEGORIES:Upcoming Events
ATTACH;FMTTYPE=image/jpeg:https://broadbandindiaforum.in/wp-content/uploads/2024/03/Banner-1920x1080-2-scaled.jpg
END:VEVENT
BEGIN:VEVENT
DTSTART;TZID=UTC:20230720T090000
DTEND;TZID=UTC:20230720T170000
DTSTAMP:20260421T093545
CREATED:20230710T074930Z
LAST-MODIFIED:20230710T075207Z
UID:10792-1689843600-1689872400@broadbandindiaforum.in
SUMMARY:Artificial Intelligence Summit 2023 - 20th July 2023 at Shangri-La\, New Delhi
DESCRIPTION:Click Here to View Event Website
URL:https://broadbandindiaforum.in/event/artificial-intelligence-summit-2023-20th-july-2023-at-shangri-la-new-delhi/
LOCATION:Delhi
CATEGORIES:Upcoming Events
ATTACH;FMTTYPE=image/jpeg:https://broadbandindiaforum.in/wp-content/uploads/2023/07/Artificial-Intelligence-Summit-2023-Event-Banner-.jpg
END:VEVENT
END:VCALENDAR