BEGIN:VCALENDAR
VERSION:2.0
PRODID:-//Broadband India Forum - ECPv6.15.20//NONSGML v1.0//EN
CALSCALE:GREGORIAN
METHOD:PUBLISH
X-WR-CALNAME:Broadband India Forum
X-ORIGINAL-URL:https://broadbandindiaforum.in
X-WR-CALDESC:Events for Broadband India Forum
REFRESH-INTERVAL;VALUE=DURATION:PT1H
X-Robots-Tag:noindex
X-PUBLISHED-TTL:PT1H
BEGIN:VTIMEZONE
TZID:UTC
BEGIN:STANDARD
TZOFFSETFROM:+0000
TZOFFSETTO:+0000
TZNAME:UTC
DTSTART:20240101T000000
END:STANDARD
END:VTIMEZONE
BEGIN:VEVENT
DTSTART;TZID=UTC:20250822T090000
DTEND;TZID=UTC:20250822T173000
DTSTAMP:20260421T205738
CREATED:20250719T053446Z
LAST-MODIFIED:20250904T080140Z
UID:13680-1755853200-1755883800@broadbandindiaforum.in
SUMMARY:Critical Communications India: New Delhi 22 August 2025
DESCRIPTION:Program Speaker Details Event Brochure Event Highlights Watch on YouTube
URL:https://broadbandindiaforum.in/event/critical-communications-india-new-delhi-22-august-2025/
CATEGORIES:Upcoming Events
ATTACH;FMTTYPE=image/png:https://broadbandindiaforum.in/wp-content/uploads/2025/08/1920-x-1080-2-scaled.png
END:VEVENT
END:VCALENDAR