BEGIN:VCALENDAR
VERSION:2.0
PRODID:-//Broadband India Forum - ECPv6.15.20//NONSGML v1.0//EN
CALSCALE:GREGORIAN
METHOD:PUBLISH
X-ORIGINAL-URL:https://broadbandindiaforum.in
X-WR-CALDESC:Events for Broadband India Forum
REFRESH-INTERVAL;VALUE=DURATION:PT1H
X-Robots-Tag:noindex
X-PUBLISHED-TTL:PT1H
BEGIN:VTIMEZONE
TZID:UTC
BEGIN:STANDARD
TZOFFSETFROM:+0000
TZOFFSETTO:+0000
TZNAME:UTC
DTSTART:20240101T000000
END:STANDARD
END:VTIMEZONE
BEGIN:VEVENT
DTSTART;TZID=UTC:20250624T100000
DTEND;TZID=UTC:20250624T170000
DTSTAMP:20260417T084405
CREATED:20250523T082852Z
LAST-MODIFIED:20260217T080439Z
UID:13385-1750759200-1750784400@broadbandindiaforum.in
SUMMARY:World Wi-Fi Day June 24th 2025 at The LaLiT New Delhi
DESCRIPTION:Program Register Here Speaker Details Photo Album Watch on YouTube \n  \nAbout The Conference\nEvery June\, BIF celebrates World Wi-Fi Day to underscore Wi-Fi’s profound impact on global connectivity and its vital role in driving economic growth\, social mobility\, education\, and digital inclusion. This year\, we aim to elevate the celebration by recognizing the Government of India’s significant advancements in digital innovation. \nWith over 90% of broadband usage in India occurring over Wi-Fi networks\, the recent delicensing of the 6 GHz band is expected to unlock a new era of next-generation Wi-Fi (6E and beyond) — leading to faster and more reliable home Wi-Fi\, enhanced digital connectivity for in-building coverage\, and opportunities for innovation in the area of Private Networks in industries like smart cities and smart factories as also for public and community Wi-Fi solutions. Our goal of achieving 50 million public Wi-Fi hotspots by 2030 makes this conference a critical platform to reflect on the progress\, share international best practices\, and reaffirm Wi-Fi’s role as a pillar of inclusive digital development. \nAligning with the theme of the recently launched India Mobile Congress\, ‘Innovate to Transform’\, this year’s Wi-Fi Day celebrations are themed: “Transforming India\, Innovating for the World.” \nThe event will feature presentations by senior officials from the Government and subject matter experts from India and abroad during the inaugural session\, followed by panel discussions on key topics\, including: \n\nImpact of Delicensed 6 GHz on the Innovative Growth of Wi-Fi in India\nPM-WANI: Catalyst for Rural Connectivity and Digital Inclusion\nOpen Roaming & Global Connectivity\nWi-Fi Standards and Security\n\n 
URL:https://broadbandindiaforum.in/event/world-wi-fi-day-june-24th-2025-at-the-lalit-new-delhi/
CATEGORIES:Upcoming Events
ATTACH;FMTTYPE=image/jpeg:https://broadbandindiaforum.in/wp-content/uploads/2025/07/Banner-1920x1080-1-e1751863099129.jpg
END:VEVENT
END:VCALENDAR