BEGIN:VCALENDAR
VERSION:2.0
PRODID:-//Broadband India Forum - ECPv6.15.20//NONSGML v1.0//EN
CALSCALE:GREGORIAN
METHOD:PUBLISH
X-ORIGINAL-URL:https://broadbandindiaforum.in
X-WR-CALDESC:Events for Broadband India Forum
REFRESH-INTERVAL;VALUE=DURATION:PT1H
X-Robots-Tag:noindex
X-PUBLISHED-TTL:PT1H
BEGIN:VTIMEZONE
TZID:UTC
BEGIN:STANDARD
TZOFFSETFROM:+0000
TZOFFSETTO:+0000
TZNAME:UTC
DTSTART:20240101T000000
END:STANDARD
END:VTIMEZONE
BEGIN:VEVENT
DTSTART;TZID=UTC:20250909T150000
DTEND;TZID=UTC:20250909T163000
DTSTAMP:20260419T173249
CREATED:20250902T165447Z
LAST-MODIFIED:20250910T093352Z
UID:13855-1757430000-1757435400@broadbandindiaforum.in
SUMMARY:The Digital Dialogues on “Cyber Security Challenges in Telecom Sector” & Release of Paper on “Broadband Internet Security”
DESCRIPTION:Register Here Speaker Details Program Watch on YouTube White Paper
URL:https://broadbandindiaforum.in/event/the-digital-dialogues-on-cyber-security-challenges-in-telecom-sector-release-of-paper-on-broadband-internet-security/
CATEGORIES:Past Events
ATTACH;FMTTYPE=image/png:https://broadbandindiaforum.in/wp-content/uploads/2025/09/1920-x-1080.png
END:VEVENT
END:VCALENDAR